BEGIN:VCALENDAR
VERSION:2.0
PRODID:-//wp-events-plugin.com//6.4.6.4//EN
TZID:Europe/Brussels
X-WR-TIMEZONE:Europe/Brussels
BEGIN:VEVENT
UID:2@test.chiny-tourisme.be
DTSTART;TZID=Europe/Brussels:20230429T140000
DTEND;TZID=Europe/Brussels:20230430T150000
DTSTAMP:20230428T215300Z
URL:https://test.chiny-tourisme.be/events/test-event-4/
SUMMARY:test event 4
DESCRIPTION:test extrait
END:VEVENT
BEGIN:VTIMEZONE
TZID:Europe/Brussels
X-LIC-LOCATION:Europe/Brussels
BEGIN:DAYLIGHT
DTSTART:20230326T030000
TZOFFSETFROM:+0100
TZOFFSETTO:+0200
TZNAME:CEST
END:DAYLIGHT
END:VTIMEZONE
END:VCALENDAR