BEGIN:VCALENDAR
VERSION:2.0
PRODID:-//wp-events-plugin.com//6.4.6.4//EN
TZID:Europe/Brussels
X-WR-TIMEZONE:Europe/Brussels
BEGIN:VEVENT
UID:1@test.chiny-tourisme.be
DTSTART;TZID=Europe/Brussels:20230427T080000
DTEND;TZID=Europe/Brussels:20230427T141500
DTSTAMP:20230426T162759Z
URL:https://test.chiny-tourisme.be/events/testevent/
SUMMARY:testEvent
DESCRIPTION:test event
END:VEVENT
BEGIN:VTIMEZONE
TZID:Europe/Brussels
X-LIC-LOCATION:Europe/Brussels
BEGIN:DAYLIGHT
DTSTART:20230326T030000
TZOFFSETFROM:+0100
TZOFFSETTO:+0200
TZNAME:CEST
END:DAYLIGHT
END:VTIMEZONE
END:VCALENDAR